BEGIN:VCALENDAR
VERSION:2.0
PRODID:-//iTIP - ECPv6.15.20//NONSGML v1.0//EN
CALSCALE:GREGORIAN
METHOD:PUBLISH
X-ORIGINAL-URL:https://iowatravelindustry.org
X-WR-CALDESC:Events for iTIP
REFRESH-INTERVAL;VALUE=DURATION:PT1H
X-Robots-Tag:noindex
X-PUBLISHED-TTL:PT1H
BEGIN:VTIMEZONE
TZID:America/Chicago
BEGIN:DAYLIGHT
TZOFFSETFROM:-0600
TZOFFSETTO:-0500
TZNAME:CDT
DTSTART:20210314T080000
END:DAYLIGHT
BEGIN:STANDARD
TZOFFSETFROM:-0500
TZOFFSETTO:-0600
TZNAME:CST
DTSTART:20211107T070000
END:STANDARD
BEGIN:DAYLIGHT
TZOFFSETFROM:-0600
TZOFFSETTO:-0500
TZNAME:CDT
DTSTART:20220313T080000
END:DAYLIGHT
BEGIN:STANDARD
TZOFFSETFROM:-0500
TZOFFSETTO:-0600
TZNAME:CST
DTSTART:20221106T070000
END:STANDARD
BEGIN:DAYLIGHT
TZOFFSETFROM:-0600
TZOFFSETTO:-0500
TZNAME:CDT
DTSTART:20230312T080000
END:DAYLIGHT
BEGIN:STANDARD
TZOFFSETFROM:-0500
TZOFFSETTO:-0600
TZNAME:CST
DTSTART:20231105T070000
END:STANDARD
END:VTIMEZONE
BEGIN:VEVENT
DTSTART;TZID=America/Chicago:20220105T100000
DTEND;TZID=America/Chicago:20220105T140000
DTSTAMP:20260422T221638
CREATED:20211217T045031Z
LAST-MODIFIED:20211217T141533Z
UID:10000029-1641376800-1641391200@iowatravelindustry.org
SUMMARY:January EITA & iTIP Membership Mtg
DESCRIPTION:iTIP is partnering with the Eastern Iowa Tourism Association (EITA) to present “Legislating and Communicating with the Mission in Mind” on January 5 at the Mississippi River Distilling Company in LeClaire.\n\nCome learn about the 2022 Legislative Priorities\, effective and ineffective ways to lobby\, details on what your elected official needs to hear\, and the forecast for the 2022 Legislative Session. iTIP & EITA Lobbyist David Adelman will be joined by Senators Zach Wahls\, Liz Mathis\, Chris Cournoyer\, Mark Lofgren\, and Kevin Kinney and Representatives Joe Mitchell\, Bobby Kaufmann\, and Phil Thompson.\n\n$20 for EITA & iTIP Members and $25 for Non-Members. Register by January 3\, 2022.
URL:https://iowatravelindustry.org/event/january-eita-itip-membership-mtg/
LOCATION:Mississippi River Distilling Company\, 303 N Cody Road\, LeClaire\, IA\, 52753\, United States
CATEGORIES:Membership Meeting,Public
ATTACH;FMTTYPE=image/jpeg:https://iowatravelindustry.org/wp-content/uploads/2021/12/0001-scaled.jpg
ORGANIZER;CN="Iowa Travel Industry Partners":MAILTO:info@iowatravelindustry.org
END:VEVENT
END:VCALENDAR